BEGIN:VCALENDAR
VERSION:2.0
PRODID:-//wp-events-plugin.com//7.2.3.1//EN
TZID:America/New_York
X-WR-TIMEZONE:America/New_York
BEGIN:VEVENT
UID:7523@norfolkct.org
DTSTART;TZID=America/New_York:20250225T160000
DTEND;TZID=America/New_York:20250225T170000
DTSTAMP:20250224T144359Z
URL:https://norfolkct.org/events/retirement-plan-committee/
SUMMARY:Retirement Plan Committee
DESCRIPTION:
CATEGORIES:Retirement Plan Committee
LOCATION:Town Hall\, 19 Maple Avenue\, Norfolk\, CT\, 06058\, United States
GEO:41.9908037;-73.19797080000001
X-APPLE-STRUCTURED-LOCATION;VALUE=URI;X-ADDRESS=19 Maple Avenue\, Norfolk\,
  CT\, 06058\, United States;X-APPLE-RADIUS=100;X-TITLE=Town Hall:geo:41.99
 08037,-73.19797080000001
END:VEVENT
BEGIN:VTIMEZONE
TZID:America/New_York
X-LIC-LOCATION:America/New_York
BEGIN:STANDARD
DTSTART:20241103T010000
TZOFFSETFROM:-0400
TZOFFSETTO:-0500
TZNAME:EST
END:STANDARD
END:VTIMEZONE
END:VCALENDAR