BEGIN:VCALENDAR
VERSION:2.0
PRODID:-//wp-events-plugin.com//7.2.3.1//EN
TZID:America/New_York
X-WR-TIMEZONE:America/New_York
BEGIN:VEVENT
UID:7456@norfolkct.org
DTSTART;TZID=America/New_York:20250203T053000
DTEND;TZID=America/New_York:20250203T063000
DTSTAMP:20250109T213446Z
URL:https://norfolkct.org/events/learn-to-play-the-harmonica-at-the-norfol
 k-library-2025-02-03/
SUMMARY:Learn to Play the Harmonica at the Norfolk Library
DESCRIPTION:Trina Hamlin will lead a three-week class in harmonica playing 
 on Monday\, January 27 and February 3 and 10 at 5:30 p.m.\nThis three sess
 ion format is great for beginners.  \nThe first twelve registrants will re
 ceive a free harmonica.\n\nTo register\, please click here.
CATEGORIES:Arts &amp; Culture,Calendar Events
LOCATION:Norfolk Library\, 9 Greenwoods Rd E\, Norfolk\, CT\, 06058\, Unite
 d States
GEO:41.9895355;-73.19881200000003
X-APPLE-STRUCTURED-LOCATION;VALUE=URI;X-ADDRESS=9 Greenwoods Rd E\, Norfolk
 \, CT\, 06058\, United States;X-APPLE-RADIUS=100;X-TITLE=Norfolk Library:g
 eo:41.9895355,-73.19881200000003
END:VEVENT
BEGIN:VTIMEZONE
TZID:America/New_York
X-LIC-LOCATION:America/New_York
BEGIN:STANDARD
DTSTART:20241103T010000
TZOFFSETFROM:-0400
TZOFFSETTO:-0500
TZNAME:EST
END:STANDARD
END:VTIMEZONE
END:VCALENDAR