BEGIN:VCALENDAR
VERSION:2.0
PRODID:-//wp-events-plugin.com//7.2.3.1//EN
TZID:America/New_York
X-WR-TIMEZONE:America/New_York
BEGIN:VEVENT
UID:5712@norfolkct.org
DTSTART;TZID=America/New_York:20221229T174500
DTEND;TZID=America/New_York:20221229T184500
DTSTAMP:20221027T143150Z
URL:https://norfolkct.org/events/dance-for-fun-at-battell-chapel-9/
SUMMARY:Dance for Fun at Battell Chapel
DESCRIPTION:Kristin Mudge is offering Dance for Fun&nbsp\;Thursdays\, 5:45 
 to 6:45 p.m.\, in Battell Chapel. After a warm-up\, participants start wit
 h some basic steps. Later\, additional elements\, will be added\, but all 
 movements are only suggestions. Email Mudge at knmae@aol.com to get on the
  communication list as the schedule may vary
CATEGORIES:Arts &amp; Culture,Calendar Events
LOCATION:Battell Chapel\, 12 Litchfield Road\, Norfolk\, CT\, 06058\, Unite
 d States
GEO:41.988514;-73.200275
X-APPLE-STRUCTURED-LOCATION;VALUE=URI;X-ADDRESS=12 Litchfield Road\, Norfol
 k\, CT\, 06058\, United States;X-APPLE-RADIUS=100;X-TITLE=Battell Chapel:g
 eo:41.988514,-73.200275
END:VEVENT
BEGIN:VTIMEZONE
TZID:America/New_York
X-LIC-LOCATION:America/New_York
BEGIN:STANDARD
DTSTART:20221106T010000
TZOFFSETFROM:-0400
TZOFFSETTO:-0500
TZNAME:EST
END:STANDARD
END:VTIMEZONE
END:VCALENDAR