BEGIN:VCALENDAR
VERSION:2.0
PRODID:-//wp-events-plugin.com//7.2.3.1//EN
TZID:America/New_York
X-WR-TIMEZONE:America/New_York
BEGIN:VEVENT
UID:8159@norfolkct.org
DTSTART;TZID=America/New_York:20261214T180000
DTEND;TZID=America/New_York:20261214T190000
DTSTAMP:20251230T202448Z
URL:https://norfolkct.org/events/conservation-commission-6-2026-02-09-2026
 -03-09-2026-04-13-2026-05-11-2026-06-08-2026-07-13-2026-08-10-2026-09-14-2
 026-10-12-2026-11-09-2026-12-14/
SUMMARY:Conservation Commission
DESCRIPTION:
CATEGORIES:Conservation Commission
LOCATION:The Hub\, 2 Station Place\, Norfolk\, CT\, 06058\, United States
GEO:41.99013;-73.199622
X-APPLE-STRUCTURED-LOCATION;VALUE=URI;X-ADDRESS=2 Station Place\, Norfolk\,
  CT\, 06058\, United States;X-APPLE-RADIUS=100;X-TITLE=The Hub:geo:41.9901
 3,-73.199622
END:VEVENT
BEGIN:VTIMEZONE
TZID:America/New_York
X-LIC-LOCATION:America/New_York
BEGIN:STANDARD
DTSTART:20261101T010000
TZOFFSETFROM:-0400
TZOFFSETTO:-0500
TZNAME:EST
END:STANDARD
END:VTIMEZONE
END:VCALENDAR