BEGIN:VCALENDAR
VERSION:2.0
PRODID:-//wp-events-plugin.com//7.2.3.1//EN
TZID:America/New_York
X-WR-TIMEZONE:America/New_York
BEGIN:VEVENT
UID:8401@norfolkct.org
DTSTART;TZID=America/New_York:20260613T080000
DTEND;TZID=America/New_York:20260613T110000
DTSTAMP:20260218T001409Z
URL:https://norfolkct.org/events/aton-forest-2026-great-mountain-bioblitz/
SUMMARY:Aton Forest 2026 Great Mountain Bioblitz
DESCRIPTION:Everyone is welcome to participate in the second annual Aton Fo
 rest Great Mountain Bioblitz on Saturday\, June 13 from 8:00 to 11:00 a.m.
  at the Aton Forest Headquarters. Join four experts including Aton Forest 
 Fellow Charley Eisemen (insects) and Great Mountain Forest's Mike Zarfos (
 plants & trees) fro a Bioblitz\, a communal effort to record as many speci
 es as possible within a designated area and time period. Prior to arrival\
 , download the iNaturalist app onto your hand-held device to use for takin
 g photos to document and share our species findings with our group. Last y
 ear at Great Mountain\, we made 275 observations 190 species (plants\, bir
 ds\, mammals\, insects\, mushrooms and more).\nFor more information and re
 gistration (limit of 50 participants)\, a live link will be added to this 
 posting.\nFor more information\, please contact Billy Gridley at Aton Fore
 st (917) 679-1426 or atonforest@gmail.com.
CATEGORIES:Calendar Events,Flora &amp; Fauna
LOCATION:Aton Forest\, 270 North Colebrook Rd\, Norfolk\, CT\, 06058\, Unit
 ed States
GEO:42.022399;-73.14225499999998
X-APPLE-STRUCTURED-LOCATION;VALUE=URI;X-ADDRESS=270 North Colebrook Rd\, No
 rfolk\, CT\, 06058\, United States;X-APPLE-RADIUS=100;X-TITLE=Aton Forest:
 geo:42.022399,-73.14225499999998
END:VEVENT
BEGIN:VTIMEZONE
TZID:America/New_York
X-LIC-LOCATION:America/New_York
BEGIN:DAYLIGHT
DTSTART:20260308T030000
TZOFFSETFROM:-0500
TZOFFSETTO:-0400
TZNAME:EDT
END:DAYLIGHT
END:VTIMEZONE
END:VCALENDAR