BEGIN:VCALENDAR
VERSION:2.0
PRODID:-//wp-events-plugin.com//7.2.3.1//EN
TZID:America/New_York
X-WR-TIMEZONE:America/New_York
BEGIN:VEVENT
UID:8509@norfolkct.org
DTSTART;TZID=America/New_York:20260425T090000
DTEND;TZID=America/New_York:20260425T120000
DTSTAMP:20260408T100821Z
URL:https://norfolkct.org/events/annual-norfolk-town-clean-up/
SUMMARY:Annual Norfolk Town Clean Up
DESCRIPTION:Volunteers of all ages gather each April to celebrate Earth Day
  (April 22) through the Norfolk Community Association's "Team Up to Clean 
 Up" program. This year's town clean up will take place on Saturday\, April
  25 from 9:00 a.m. to 12:00 p.m. Volunteers should meet at the Norfolk Hub
  at 9:00 a.m. to pick up supplies before heading out. After a long winter\
 , volunteers work together to collect trash from Norfolk’s streets and r
 oads. They’ve collected as many as 100 bags of trash in one day in past 
 years. \n\nSuggested clean up routes and trash drop off will be available.
  \nTrash bags are provided. Bring a pair of work gloves and wear appropria
 te foot gear. \nThis event takes place rain or shine.\n\nEvent Information
  and to Volunteer
CATEGORIES:Calendar Events,Local Community
LOCATION:Norfolk Hub\, 2 Station Place\, Norfolk\, CT\, 06058\, United Stat
 es
GEO:41.99013;-73.19962199999997
X-APPLE-STRUCTURED-LOCATION;VALUE=URI;X-ADDRESS=2 Station Place\, Norfolk\,
  CT\, 06058\, United States;X-APPLE-RADIUS=100;X-TITLE=Norfolk Hub:geo:41.
 99013,-73.19962199999997
END:VEVENT
BEGIN:VTIMEZONE
TZID:America/New_York
X-LIC-LOCATION:America/New_York
BEGIN:DAYLIGHT
DTSTART:20260308T030000
TZOFFSETFROM:-0500
TZOFFSETTO:-0400
TZNAME:EDT
END:DAYLIGHT
END:VTIMEZONE
END:VCALENDAR