BEGIN:VCALENDAR
VERSION:2.0
PRODID:-//wp-events-plugin.com//7.2.3.1//EN
TZID:America/New_York
X-WR-TIMEZONE:America/New_York
BEGIN:VEVENT
UID:6239@norfolkct.org
DTSTART;TZID=America/New_York;VALUE=DATE:20231001
DTEND;TZID=America/New_York;VALUE=DATE:20231002
DTSTAMP:20230912T192313Z
URL:https://norfolkct.org/events/annual-haystack-mountain-challenge-is-oct
 ober-1/
SUMMARY:Annual Haystack Mountain Challenge is October 1
DESCRIPTION:The 10th annual Haystack Mountain Challenge will be held Sunday
 \, October 1. The event\, sponsored by the Norfolk Land Trust\, starts at 
 75 Lovers Lane and features a 5K\, 10K and half-marathon. The half-maratho
 n begins at 9:30 a.m. and registration is $30 through September 24 ($35 th
 ereafter). The 10k begins at 10:45 a.m. and the 5K at 11:00 a.m.\; registr
 ation for both is $20 through September 24 and $25 thereafter. For more in
 formation\, click here.\n\n&nbsp\;
CATEGORIES:Calendar Events,Sports &amp; Recreation
LOCATION:Barbour Woods Trail Head\, 75 Lovers Lane\, Norfolk\, CT\, 06058\,
  United States
GEO:41.9947955;-73.19276889999998
X-APPLE-STRUCTURED-LOCATION;VALUE=URI;X-ADDRESS=75 Lovers Lane\, Norfolk\, 
 CT\, 06058\, United States;X-APPLE-RADIUS=100;X-TITLE=Barbour Woods Trail 
 Head:geo:41.9947955,-73.19276889999998
END:VEVENT
BEGIN:VTIMEZONE
TZID:America/New_York
X-LIC-LOCATION:America/New_York
BEGIN:DAYLIGHT
DTSTART:20230312T030000
TZOFFSETFROM:-0500
TZOFFSETTO:-0400
TZNAME:EDT
END:DAYLIGHT
END:VTIMEZONE
END:VCALENDAR